BEGIN:VCALENDAR
VERSION:2.0
PRODID:-//Guam Christian Life Fellowship - ECPv6.8.2//NONSGML v1.0//EN
CALSCALE:GREGORIAN
METHOD:PUBLISH
X-WR-CALNAME:Guam Christian Life Fellowship
X-ORIGINAL-URL:https://guamchristianlifefellowship.com
X-WR-CALDESC:Events for Guam Christian Life Fellowship
REFRESH-INTERVAL;VALUE=DURATION:PT1H
X-Robots-Tag:noindex
X-PUBLISHED-TTL:PT1H
BEGIN:VTIMEZONE
TZID:Australia/Melbourne
BEGIN:STANDARD
TZOFFSETFROM:+1100
TZOFFSETTO:+1000
TZNAME:AEST
DTSTART:20200404T160000
END:STANDARD
BEGIN:DAYLIGHT
TZOFFSETFROM:+1000
TZOFFSETTO:+1100
TZNAME:AEDT
DTSTART:20201003T160000
END:DAYLIGHT
END:VTIMEZONE
BEGIN:VEVENT
DTSTART;TZID=Australia/Melbourne:20200705T173000
DTEND;TZID=Australia/Melbourne:20200705T183000
DTSTAMP:20260426T011616
CREATED:20200327T142921Z
LAST-MODIFIED:20200911T233438Z
UID:925-1593970200-1593973800@guamchristianlifefellowship.com
SUMMARY:Sunday Worship Service
DESCRIPTION:Sunday Worship Service is now via zoom and in-person! To join us online click on the link\, https://zoom.us/j/6713004253 and following the instructions. This Sunday’s service will take place at our Mangilao facility (click here for directions). We look forward to seeing you there!
URL:https://guamchristianlifefellowship.com/event/sunday-worship-service-2020-05-31-2020-07-05/
LOCATION:Guam Christian Life Fellowship\, 146 Ministry St. Mangilao\, Guam 96913\, Guam
CATEGORIES:Worship Service
ATTACH;FMTTYPE=image/jpeg:https://guamchristianlifefellowship.com/wp-content/uploads/2020/03/Sunday-Worship-service-1-1.jpg
ORGANIZER;CN="Pastor Pancho Madrid":MAILTO:gclf0218@gmail.com
END:VEVENT
END:VCALENDAR